BEGIN:VCALENDAR
VERSION:2.0
PRODID:Spatie calendar-links
BEGIN:VEVENT
UID:9cf0c450226ce07b0b203e9abf39a5be
SUMMARY:Turniej Saunomistrzów 2014
DTSTAMP:20140405T070000Z
DTSTART:20140405T070000Z
DTEND:20140405T190000Z
LOCATION:Wrocław\, województwo dolnośląskie\, Poland
END:VEVENT
END:VCALENDAR