BEGIN:VCALENDAR
VERSION:2.0
PRODID:Spatie calendar-links
BEGIN:VEVENT
UID:d0a1fcfc622141f5e0bf8f4d2cf97e5b
SUMMARY:Łebska plaża naturystyczna
DTSTAMP:20170602T110000Z
DTSTART:20170602T110000Z
DTEND:20170602T210000Z
LOCATION:Łeba\, województwo pomorskie\, Poland
END:VEVENT
END:VCALENDAR