BEGIN:VCALENDAR
VERSION:2.0
PRODID:Spatie calendar-links
BEGIN:VEVENT
UID:681f50fbe6aa47e7f7b23806c3c86d85
SUMMARY:Noc naturystów
DTSTAMP:20170520T204500Z
DTSTART:20170520T204500Z
DTEND:20170521T000000Z
LOCATION:4 Aleja Unii Lubelskiej\, Łódź\, województwo łódzkie\, Poland
END:VEVENT
END:VCALENDAR