BEGIN:VCALENDAR
VERSION:2.0
PRODID:Spatie calendar-links
BEGIN:VEVENT
UID:e7600d53d4ed364dcd5969ecee58c63f
SUMMARY:Wiosenne Saunowanie Na Teatralnej Cz.1
DTSTAMP:20170424T133000Z
DTSTART:20170424T133000Z
DTEND:20170506T190000Z
LOCATION:10-12 Teatralna\, Wrocław\, województwo dolnośląskie\, Poland
END:VEVENT
END:VCALENDAR