BEGIN:VCALENDAR
VERSION:2.0
PRODID:Spatie calendar-links
BEGIN:VEVENT
UID:52195d69676b84c2db5ad049d730b8e4
SUMMARY:Wakacje na jachcie w Chorwacji
DTSTAMP:20180818T080000Z
DTSTART:20180818T080000Z
DTEND:20180909T160000Z
LOCATION:Croatia
END:VEVENT
END:VCALENDAR