BEGIN:VCALENDAR
VERSION:2.0
PRODID:Spatie calendar-links
BEGIN:VEVENT
UID:de234c83b44e7db5d629e02388c4da9a
SUMMARY:2017.11.04  + X Mazowiecka Noc Saunowa
DTSTAMP:20171104T203000Z
DTSTART:20171104T203000Z
DTEND:20171105T010000Z
LOCATION:84 Kępa\, Sochocin\, województwo mazowieckie\, Poland
END:VEVENT
END:VCALENDAR