BEGIN:VCALENDAR
VERSION:2.0
PRODID:Spatie calendar-links
BEGIN:VEVENT
UID:898a542cc544927f73b6effc0442c7d3
SUMMARY:Turnus Naturystyczny - Ustronie Morskie 2018
DTSTAMP:20180826T060000Z
DTSTART:20180826T060000Z
DTEND:20180902T190000Z
LOCATION:Ustronie Morskie\, województwo zachodniopomorskie\, Poland
END:VEVENT
END:VCALENDAR