BEGIN:VCALENDAR
VERSION:2.0
PRODID:Spatie calendar-links
BEGIN:VEVENT
UID:8c7f7e85aa3b36ab6154404aaf69520e
SUMMARY:XX opolskie spotkanie saunowe
DTSTAMP:20180112T170000Z
DTSTART:20180112T170000Z
DTEND:20180112T225500Z
LOCATION:101A  Kuniów\, Kluczbork\, województwo opolskie\, Poland
END:VEVENT
END:VCALENDAR