BEGIN:VCALENDAR
VERSION:2.0
PRODID:Spatie calendar-links
BEGIN:VEVENT
UID:7dd777a6e72f131f4d693f0e979f0ee1
SUMMARY:XXI Opolskie Spotkanie Saunowe
DTSTAMP:20180216T170000Z
DTSTART:20180216T170000Z
DTEND:20180216T225500Z
LOCATION:101A Kuniów\, Kluczbork\, województwo opolskie\, Poland
END:VEVENT
END:VCALENDAR