BEGIN:VCALENDAR
VERSION:2.0
PRODID:Spatie calendar-links
BEGIN:VEVENT
UID:a3af07c791c74b86b70aea4a881acf32
SUMMARY:16-30 czerwca 2018 naturystyczny rejs w Chorwacji
DTSTAMP:20180616T150000Z
DTSTART:20180616T150000Z
DTEND:20180630T080000Z
LOCATION:Croatia
END:VEVENT
END:VCALENDAR