BEGIN:VCALENDAR
VERSION:2.0
PRODID:Spatie calendar-links
BEGIN:VEVENT
UID:bc8216fdc6590e8469bfd82ed387cb69
SUMMARY:Wspaniałe wakacje na jachcie w Chorwacji 30.06 - 07.07
DTSTAMP:20180630T130000Z
DTSTART:20180630T130000Z
DTEND:20180707T110000Z
LOCATION:Croatia
END:VEVENT
END:VCALENDAR