BEGIN:VCALENDAR
VERSION:2.0
PRODID:Spatie calendar-links
BEGIN:VEVENT
UID:c16981ec5f1ae5639595385f1bcf1510
SUMMARY:Dzień wędrówki
DTSTAMP:20150525T080000Z
DTSTART:20150525T080000Z
DTEND:20150525T150000Z
LOCATION:Pirmasens\, Nadrenia-Palatynat\, Germany
END:VEVENT
END:VCALENDAR