BEGIN:VCALENDAR
VERSION:2.0
PRODID:Spatie calendar-links
BEGIN:VEVENT
UID:1cd803c91b0e77bf865345e43ebadc34
SUMMARY:Ognisko rozpoczynające sezon naturystyczny na N plaży nad Turawą
DTSTAMP:20180408T110000Z
DTSTART:20180408T110000Z
DTEND:20180408T150000Z
LOCATION:Turawa\, województwo opolskie\, Poland
END:VEVENT
END:VCALENDAR