BEGIN:VCALENDAR
VERSION:2.0
PRODID:Spatie calendar-links
BEGIN:VEVENT
UID:c3f299c3b4b4fdd9921c82c46d983131
SUMMARY:Ognisko kończące sezon naturystyczny 2018 na N plaży nad Turawą
DTSTAMP:20181007T110000Z
DTSTART:20181007T110000Z
DTEND:20181007T150000Z
LOCATION:Turawa\, województwo opolskie\, Poland
END:VEVENT
END:VCALENDAR