BEGIN:VCALENDAR
VERSION:2.0
PRODID:Spatie calendar-links
BEGIN:VEVENT
UID:edae93f0a7f1b5ada7b80db6342c4946
SUMMARY:Noc naturystyczna w destresso! - 7 grudnia 2018
DTSTAMP:20181207T200000Z
DTSTART:20181207T200000Z
DTEND:20181208T020000Z
LOCATION:3 Pabianicka\, Łódź\, województwo łódzkie\, Poland
END:VEVENT
END:VCALENDAR