BEGIN:VCALENDAR
VERSION:2.0
PRODID:Spatie calendar-links
BEGIN:VEVENT
UID:26dc76b3a96151848fddb0ed81f43774
SUMMARY:Noc Naturystów na Fali – Poczuj tropikalny luz w Łodzi!
DTSTAMP:20251122T190000Z
DTSTART:20251122T190000Z
DTEND:20251122T230000Z
LOCATION:4 al. Unii Lubelskiej\, Łódź\, województwo łódzkie\, Poland
END:VEVENT
END:VCALENDAR