BEGIN:VCALENDAR
VERSION:2.0
PRODID:Spatie calendar-links
BEGIN:VEVENT
UID:3633c54b81e63678c084e7f2b9fd8228
SUMMARY:Karnawałowa Noc Saunowa
DTSTAMP:20260123T213000Z
DTSTART:20260123T213000Z
DTEND:20260124T004000Z
LOCATION:99 Borowska\, Wrocław\, województwo dolnośląskie\, Poland
END:VEVENT
END:VCALENDAR