BEGIN:VCALENDAR
VERSION:2.0
PRODID:Spatie calendar-links
BEGIN:VEVENT
UID:9895dfd5659ca1fd59fb0cadf3463791
SUMMARY:Walentynkowa Noc Saunowa – Love Is Everywhere
DTSTAMP:20260213T213000Z
DTSTART:20260213T213000Z
DTEND:20260214T004000Z
LOCATION:99 Borowska\, Wrocław\, województwo dolnośląskie\, Poland
END:VEVENT
END:VCALENDAR