BEGIN:VCALENDAR
VERSION:2.0
PRODID:Spatie calendar-links
BEGIN:VEVENT
UID:d8945ea452e704702f85f63658fe0585
SUMMARY:Wyjazd OPATAK Czechy
DTSTAMP:20150802T043000Z
DTSTART:20150802T043000Z
DTEND:20150802T180000Z
END:VEVENT
END:VCALENDAR