BEGIN:VCALENDAR
VERSION:2.0
PRODID:Spatie calendar-links
BEGIN:VEVENT
UID:e2860b876d31f13467f39bdb628a712e
SUMMARY:Jezioro Opatak
DTSTAMP:20150808T040000Z
DTSTART:20150808T040000Z
DTEND:20150809T180000Z
LOCATION:227 Pohřebačka\, Opatovice nad Labem\, Północno-wschodni\, Czech Republic
END:VEVENT
END:VCALENDAR