BEGIN:VCALENDAR
VERSION:2.0
PRODID:Spatie calendar-links
BEGIN:VEVENT
UID:6eb0d61e37c6f0b36f74d9e3d563e7f3
SUMMARY:Halloweenowa Noc Saunowa
DTSTAMP:20151030T203000Z
DTSTART:20151030T203000Z
DTEND:20151030T233000Z
LOCATION:99 Borowska\, Wrocław\, województwo dolnośląskie\, Poland
END:VEVENT
END:VCALENDAR