BEGIN:VCALENDAR
VERSION:2.0
PRODID:Spatie calendar-links
BEGIN:VEVENT
UID:a05b879258eb6140433e12139a3a21e2
SUMMARY:III Wrocław Sauna Festival
DTSTAMP:20151121T080000Z
DTSTART:20151121T080000Z
DTEND:20151122T200000Z
LOCATION:99 Borowska\, Wrocław\, województwo dolnośląskie\, Poland
END:VEVENT
END:VCALENDAR