BEGIN:VCALENDAR
VERSION:2.0
PRODID:Spatie calendar-links
BEGIN:VEVENT
UID:5fdbdab25d48964023be9caf3c26ae44
SUMMARY:Wieczór Saunowy Kleopatry
DTSTAMP:20160916T180000Z
DTSTART:20160916T180000Z
DTEND:20160916T210000Z
LOCATION:126 Kolonia\, Dąbrowa\, województwo warmińsko-mazurskie\, Poland
END:VEVENT
END:VCALENDAR