BEGIN:VCALENDAR
VERSION:2.0
PRODID:Spatie calendar-links
BEGIN:VEVENT
UID:a797a64c2cd7120c23dd257d31c40617
SUMMARY:Bawarska Noc Saunowa z Saunamistrzami z Niemiec
DTSTAMP:20160923T170000Z
DTSTART:20160923T170000Z
DTEND:20160923T230000Z
LOCATION:2 Dehnelów\, Czeladź\, województwo śląskie\, Poland
END:VEVENT
END:VCALENDAR